BEGIN:VCALENDAR
VERSION:2.0
PRODID:icalendar-ruby
CALSCALE:GREGORIAN
BEGIN:VEVENT
DTSTAMP:20260422T140412Z
UID:9f08aaaa-36a4-41f1-9829-2afb0b5550c8
DTSTART:20260715T090000Z
DTEND:20260915T170000Z
DESCRIPTION:2026/07/15 till 2026/09/15\n\nLocation: SOLEIL synchrotron\, Sa
 int-Aubin\, France\n\n**Deadline**: September 15th\, 2026\, at 17:00 (CET)
 \n\nThe call for Proposals for the 2027-I cycle will cover experiments sc
 heduled during the first semester of 2027\, except for BAGs\, which will c
 over the entire year\, and MX-BAGs\, which will cover 2 years.
LOCATION:SOLEIL synchrotron\, Saint-Aubin\, France
SUMMARY:SOLEIL’s call for proposals
URL;VALUE=URI:https://www.synchrotron-soleil.fr/en/users/current-call-propo
 sals/proposal-general-information
END:VEVENT
END:VCALENDAR
