BEGIN:VCALENDAR
VERSION:2.0
PRODID:icalendar-ruby
CALSCALE:GREGORIAN
BEGIN:VEVENT
DTSTAMP:20260422T165344Z
UID:76026bea-9da8-4811-a17e-4f1ea40842e2
DTSTART:20250901T090000Z
DTEND:20260529T170000Z
DESCRIPTION:Under the new Rolling Call\, proposals can be submitted at any 
 time during the period September 2025 – May 2026\, giving scientists mor
 e flexibility and time to carefully prepare\, develop\, and refine their r
 esearch ideas.
LOCATION:Europe (various)
SUMMARY:Rolling Call for ReMade-TNA
URL;VALUE=URI:https://apply.remade-project.eu/submit-proposal?acid=170
END:VEVENT
END:VCALENDAR
