BEGIN:VCALENDAR
VERSION:2.0
PRODID:icalendar-ruby
CALSCALE:GREGORIAN
BEGIN:VEVENT
DTSTAMP:20260422T165343Z
UID:1600246d-166c-4478-84fd-e122fb62ca81
DTSTART:20260206T090000Z
DTEND:20261231T170000Z
DESCRIPTION:The SME Call for Proposals is Now Open. \n\nThe application is
  open throughout the project and implemented as a rolling call.
LOCATION:Various locations where participating research instruments and syn
 chrotron facilities are located
SUMMARY:RIANA (Research Infrastructure Access in Nanoscience & Nanotechnolo
 gy) – SME User Access
URL;VALUE=URI:https://riana-project.eu/sme-user-access/
END:VEVENT
END:VCALENDAR
