BEGIN:VCALENDAR
VERSION:2.0
PRODID:icalendar-ruby
CALSCALE:GREGORIAN
BEGIN:VEVENT
DTSTAMP:20260422T165344Z
UID:b7d0715d-9829-4981-bdca-4c1209a55e37
DTSTART:20250901T090000Z
DTEND:20260515T170000Z
DESCRIPTION:Under the pre-proposal call\, scientists can benefit from the s
 upport of the ReMade@ARI’s Smart Science Cluster team to develop their p
 reliminary research idea(s) into a full ReMade-TNA proposal.
LOCATION:Europe (a variety of locations)
SUMMARY:ReMade Pre-Proposal Submission
URL;VALUE=URI:https://apply.remade-project.eu/submit-call/?id=212
END:VEVENT
END:VCALENDAR
