BEGIN:VCALENDAR
VERSION:2.0
PRODID:icalendar-ruby
CALSCALE:GREGORIAN
BEGIN:VEVENT
DTSTAMP:20260422T195133Z
UID:a0a600de-f238-42cf-8e2b-1a715e5a4637
DTSTART:20260801T090000Z
DTEND:20261231T170000Z
DESCRIPTION:2026-2nd Call for Proposals at PAL-XFEL\n\nWe invite scientist
 s worldwide to submit proposals for general user beamtime experiments at P
 AL-XFEL (Pohang Accelerator Laboratory – X-ray Free Electron Laser) from
  August to December 2026. PAL-XFEL has three beamlines\, two for hard X-ra
 y experiments (XSS: X-ray Scattering and Spectroscopy\, NCI: Nano Crystal
 lography and Coherent Imaging) and one for soft X-ray experiments (SSS: So
 ft X-ray Scattering and Spectroscopy). The access to PAL-XFEL is open to t
 he international scientific community\, with the requirement that foreign 
 users collaborate with Korean scientists being local contacts. Additionall
 y\, all applicants must contact PAL-XFEL staff scientists to discuss expe
 rimental details before submitting a beamtime proposal. There is no fee f
 or proposal submission\, but charges will apply when the experiment is con
 ducted\, as per government policy. Please register as a user of PAL and 
 submit an application form of the PAL-XFEL proposal via the website ([http
 s://pal.postech.ac.kr/en/index.do](https://pal.postech.ac.kr/en/index.do))
 .\n\n- Call for Proposal Deadline: April 24\, 2026 (Korean Standard Time
 )
LOCATION:PAL-XFEL\, 80 Jigokro-127-beongil\, Nam-gu\, Pohang\, Gyeongbuk 37
 673\, Korea
SUMMARY:PAL-XFEL Call for Proposals
URL;VALUE=URI:https://pal.postech.ac.kr//ko/bbs/use/TYhCqnQDVrpQyxUE/select
 View.do?nttId=90004076
END:VEVENT
END:VCALENDAR
