BEGIN:VCALENDAR
VERSION:2.0
PRODID:icalendar-ruby
CALSCALE:GREGORIAN
BEGIN:VEVENT
DTSTAMP:20260422T233126Z
UID:d911c6da-b002-43b2-877a-753669809668
DTSTART:20261130T090000Z
DTEND:20261204T170000Z
DESCRIPTION:30 November – 4 December 2026 | Pattaya\, Thailand\n\nThe **
 MEDSI School 2026**\, hosted by the **Synchrotron Light Research Institut
 e (SLRI)**\, is an intensive international training program dedicated to t
 he fundamental and advanced aspects of mechanical engineering in synchrotr
 on radiation facilities.\n\nEngineering for modern light sources requires 
 a unique blend of precision\, stability\, and high-performance vacuum tech
 nology. This school provides a deep-dive into the specialized mechanical s
 ystems that enable world-class X-ray science\, covering the entire facilit
 y lifecycle from conceptual design to final experimental integration.
LOCATION:Dusit Thani Hotel\, Pattaya\, Thailand
SUMMARY:MEDSI School 2026 – International School on Mechanical Engineerin
 g Design of Synchrotron Instrumentation
URL;VALUE=URI:https://indico.slri.or.th/event/36/
END:VEVENT
END:VCALENDAR
