BEGIN:VCALENDAR
VERSION:2.0
PRODID:icalendar-ruby
CALSCALE:GREGORIAN
BEGIN:VEVENT
DTSTAMP:20260422T153000Z
UID:6d7d7c40-5e06-474b-9aec-7bda468a0202
DTSTART:20260719T090000Z
DTEND:20260724T170000Z
DESCRIPTION:**What can you expect at IWP-RIXS 2026?**\n\nSee below for a co
 mplete list of science topics:\n\n- Attosecond Dynamics\n- Quantum systems
 : from atoms to chemistry\n- Quantum materials\, energy materials\, conden
 sed matter physics\n- Solution phase chemistry\n- Spectroscopy\, scatterin
 g\, imaging and operando approaches\n- Short wavelength sources: XFELs\, S
 R\, HHG
LOCATION:David Brower Center\, Berkeley CA\, USA
SUMMARY:IWP-RIXS 2026 – International Workshop on Photoionization and Res
 onant Inelastic Scattering
URL;VALUE=URI:https://iwprixs2026.lbl.gov/home
END:VEVENT
END:VCALENDAR
