BEGIN:VCALENDAR
VERSION:2.0
PRODID:icalendar-ruby
CALSCALE:GREGORIAN
BEGIN:VEVENT
DTSTAMP:20260422T140412Z
UID:56465080-214d-48a0-8b15-bb4b720e94ac
DTSTART:20260610T090000Z
DTEND:20260612T170000Z
DESCRIPTION:A hands-on workshop for UK and international users of IR hypers
 pectral imaging/microscopy\, THz spectroscopy and IR nanospectroscopy\n\nT
 his training course is a collaboration between Diamond Light Source (MIRIA
 M beamline B22)\, SOLEIL Synchrotron (SMIS beamline) and the University of
  Ljubljana. It aims to promote the QUASAR open-source software among the U
 K and international scientific research community. \n\nAcross three days\
 , the hands-on workshop will help current\, prospective\, and potential us
 ers working on a wide spectrum of IR applications\, including: \n\nBiolog
 y and Medical imaging \n\nMaterials and Engineering microanalysis \n\nPh
 ysical and Chemical Sciences \n\nCultural Heritage and Archaeology \n\nG
 eology and Space Science \n\nNanoscience and Metamaterials \n\nThe goal 
 is to provide comprehensive training on the use of [QUASAR](https://quasa
 r.codes/) through interactive tutorials and real-world examples\, drawn f
 rom IR microscopy (or Raman microspectroscopy) and imaging datasets — n
 ow including IR nanospectroscopy. 
LOCATION:Diamond Light Source\, Harwell Campus\, Oxfordshire\, UK
SUMMARY:InfraRed Data and Image Analysis Training on QUASAR
URL;VALUE=URI:https://www.diamond.ac.uk/Home/Events/2026/InfraRed-Data-and-
 Image-Analysis-Training-on-QUASAR-2026.html
END:VEVENT
END:VCALENDAR
