BEGIN:VCALENDAR
VERSION:2.0
PRODID:icalendar-ruby
CALSCALE:GREGORIAN
BEGIN:VEVENT
DTSTAMP:20260422T165342Z
UID:0df25826-98e0-463f-8284-29b56046b950
DTSTART:20270301T090000Z
DTEND:20270731T170000Z
DESCRIPTION:The 15th call for proposals at the European X-Ray Free-Electro
 n Laser Facility (European XFEL) is open until\n\n**Thursday\, 07 May 2026
 ****\, at 16:00 CEST**  \n(local Hamburg/Schenefeld time / Central Europea
 n Summer Time)
LOCATION:European XFEL\, Schenefeld\, Germany
SUMMARY:European XFEL – 15th Call for Proposals for User Experiments
URL;VALUE=URI:https://www.xfel.eu/users/beamtime/call_for_proposals/regular
 _call___15th_call_for_proposals/index_eng.html
END:VEVENT
END:VCALENDAR
