BEGIN:VCALENDAR
VERSION:2.0
PRODID:icalendar-ruby
CALSCALE:GREGORIAN
BEGIN:VEVENT
DTSTAMP:20260422T170445Z
UID:c9258607-d620-43c3-ac58-5f3c49a1f23d
DTSTART:20261001T090000Z
DTEND:20270331T170000Z
DESCRIPTION:The next submission for proposals for **AP40 **is open. The c
 all for proposals for AP40 (October 2026 – March 2027) is open and propo
 sals must be submitted by Wednesday 25th March 2026 at 17:00hrs UTC/GMT.\n
 \nFor submissions of proposals please see here: [Apply for beamtime.](htt
 p://www.diamond.ac.uk/Users/Apply-for-Beamtime.html)\n\nFor updates to the
  XChem BAG submission see: [XChem BAG submission](https://www.diamond.ac.
 uk/Instruments/Mx/Fragment-Screening/XChem-Applications/BAG-Access.html) 
 \n\nFor MX related proposals please refer to the [MX Responsive Beamtime 
 Guide](https://www.diamond.ac.uk/Instruments/Mx/I24/MX-Responsive-Beamtime
 -2020.html).
LOCATION:Diamond\, Harwell\, Oxfordshire\, UK
SUMMARY:Diamond call for proposals
URL;VALUE=URI:https://www.diamond.ac.uk/Users.html
END:VEVENT
END:VCALENDAR
