BEGIN:VCALENDAR
VERSION:2.0
PRODID:icalendar-ruby
CALSCALE:GREGORIAN
BEGIN:VEVENT
DTSTAMP:20260422T205551Z
UID:13ee46bc-67ad-4436-aa6d-a6a63d867bf6
DTSTART:20260621T090000Z
DTEND:20260625T170000Z
DESCRIPTION:The International Workshop on Phase Retrieval and Coherent Scat
 tering is the leading international meeting focused on sharing the latest 
 advances in developing and using coherent scattering methods with X-rays\,
  extreme-ultraviolet light\, and electrons recently enabled by advances in
  source technology. This biannual conference series\, started in 2008\, at
 tracts researchers from many fields (including physics\, chemistry\, biolo
 gy\, optics\, earth\, environmental\, planetary sciences\, and materials r
 esearch) who are interested in developing coherence-based methods and thei
 r applications.\n\nThe University of Wisconsin and Argonne National Labora
 tory will host the 2026 Coherence Workshop along the peaceful shores of La
 ke Mendota in downtown Madison\, Wisconsin from June 21-25\, 2026.\n\nWith
  the Upgrade of the Advanced Photon Source (APS) now fully completed\, the
  United States Midwest region will start a new chapter in its long history
  of science with coherent x-rays and electron sources. We invite the world
 wide community to join us in Madison and at the APS for this meeting.\n\nE
 arly Bird Registration – Conference Only  \nJune 21-June 25\, 2026  \nRa
 te good until April 13\, 2026  \n$600\n\nRegular Registration – Conferen
 ce Only  \nJune 21-June 25\, 2026  \nRate after April 14\, 2026  \n$650\n\
 nRegistration – Workshop &amp\; Conference  \nJune 21-June 25\, 2026  \n
 $700\n\nStudent – Workshop &amp\; Conference  \nJune 21-June 25\, 2026  
 \n$350
LOCATION:The Pyle Center is located on the UW-Madison campus on the shore o
 f Lake Mendota\, Madison\, Wisconsin
SUMMARY:Coherence 2026
URL;VALUE=URI:https://conferences.union.wisc.edu/coherence/
END:VEVENT
END:VCALENDAR
