BEGIN:VCALENDAR
VERSION:2.0
PRODID:icalendar-ruby
CALSCALE:GREGORIAN
BEGIN:VEVENT
DTSTAMP:20260422T201020Z
UID:cc38c921-a1b3-45f4-b204-f60fa8a29f99
DTSTART:20260701T090000Z
DTEND:20261231T170000Z
DESCRIPTION:Twice a year\, the CLS opens a Call for Proposals during which 
 time proposals are accepted for peer-reviewed access to beamtime in the up
 coming cycle. Each cycle is typically 6 months long. Successful proposals 
 become active projects at the CLS and remain active for 2 years. During an
  open Call for Proposals\, beamtime requests (BTRs) for active projects ca
 n also be submitted for consideration in the upcoming cycle.\n\n| Cycle | 
 Scheduling Period | Call Open | Call Close | PRC Meeting  \n(Week of) | Re
 sults Announced  \n(Week of) |\n| --- | --- | --- | --- | --- | --- |\n| 4
 2 | July-Dec 2026 | Jan 28\, 2026 | Feb 25\, 2026 | Apr 20\, 2026 | May 4\
 , 2026 |
LOCATION:Canadian Light Source Inc. 44 Innovation Boulevard Saskatoon\, Sas
 katchewan\, Canada
SUMMARY:CLS Call for Proposals
URL;VALUE=URI:https://www.lightsource.ca/users/getting-started/peer-review-
 process.php?utm_source=CLS+Monthly+Newsletter&utm_campaign=96473765ae-Apri
 l+2024_eNews_COPY_01&utm_medium=email&utm_term=0_a6f2d9cf37-96473765ae-454
 628621#CallforProposals
END:VEVENT
END:VCALENDAR
