BEGIN:VCALENDAR
VERSION:2.0
PRODID:icalendar-ruby
CALSCALE:GREGORIAN
BEGIN:VEVENT
DTSTAMP:20260422T152959Z
UID:54b42050-8ed4-4564-832a-df26846b42d3
DTSTART:20260701T090000Z
DTEND:20261231T170000Z
DESCRIPTION:Round – 2026-II Beamtime period – July 2026 – January 202
 7\n\nDeadline – 01.03.2026 (CET 11.59 pm)
LOCATION:BESSY II\, Berlin\, Germany
SUMMARY:BESSY II – call for proposals by 1st March 2026 (CET 11.59 pm)
URL;VALUE=URI:https://www.helmholtz-berlin.de/user/apply-for-beamtime/index
 _en.html
END:VEVENT
END:VCALENDAR
