BEGIN:VCALENDAR
VERSION:2.0
PRODID:icalendar-ruby
CALSCALE:GREGORIAN
BEGIN:VEVENT
DTSTAMP:20260422T165344Z
UID:55d6b94a-7133-479f-be26-a92a321fb543
DTSTART:20260601T090000Z
DTEND:20261231T170000Z
DESCRIPTION:The Call for Proposals for the 2026-II cycle for beamlines and 
 microscopes is now open.\n\n- **Deadline**: March 3rd\, 2026\, at 14:00 (C
 EST)\n\nThe Call for Proposals for the 2026-II cycle will cover **experim
 ents scheduled from end of June to December 2026**\, except for the MX Be
 amlines\, which will cover the entire year.\n\n- Information about the spe
 cifics of the **beamlines **can be obtained [here](https://www.cells.es
 /en/instruments/beamlines)\n- Information about the specifics of the **mi
 croscopes **can be obtained [here](https://www.cells.es/en/instruments/m
 icroscopy-platform)\n\nFor those users applying to **MSPD\, CLAESS** and
  **NOTOS**: if your proposal goes to the waiting list\, it can be moved t
 o another beamline in case enough beamtime is available. Please\, indicate
  your preferred beamline and the second option in the text of the proposal
 .\n\nApplications for researcher’s access to **beamlines and **electro
 n** microscopes will** be submitted the [user office portal](https://us
 erofficesystem.cells.es/).
LOCATION:Barcelona\, Spain
SUMMARY:ALBA Call for Proposals
URL;VALUE=URI:https://www.cells.es/en/users/access/call-information?activeA
 ccordion=979b2a2e-ccb9-45b6-a168-83ba23f1aa5b
END:VEVENT
END:VCALENDAR
