BEGIN:VCALENDAR
VERSION:2.0
PRODID:icalendar-ruby
CALSCALE:GREGORIAN
BEGIN:VEVENT
DTSTAMP:20260422T154916Z
UID:389e1e77-a127-4fd5-b347-d1cecb1ab53c
DTSTART:20261004T090000Z
DTEND:20261008T170000Z
DESCRIPTION:A 4-day summit of talks\, posters\, activities\, and discussion
LOCATION:Monterey\, CA\, USA
SUMMARY:13th International Workshop on Infrared Microscopy and Spectroscopy
  with Accelerator-Based Light Sources (WIRMS 2026)
URL;VALUE=URI:https://wirms2026.lbl.gov/
END:VEVENT
END:VCALENDAR
